Workbook

Sheet Plan
A1: Plan de mantenimiento preventivo
A2: Todas las tareas de cada equipo, con su frecuencia, su próxima fecha y la carga de trabajo en un cronograma de 52 semanas.
A3: Una fila por tarea en un equipo. Anote la frecuencia, su unidad y la fecha de la última ejecución: las columnas grises calculan la próxima fecha, los días restantes y el estado, y llenan el cronograma de 52 semanas.
A5: Tareas preventivas
A6: Código de equipo | B6: Equipo | C6: Ubicación | D6: Tarea | E6: Tipo de tarea | F6: Frecuencia | G6: Unidad | H6: Duración (h) | I6: Especialidad / responsable | J6: Última ejecución | K6: Próxima fecha | L6: Días restantes | M6: Estado | N6: Referencia (manual, norma)
K7: =IF(AND(ISNUMBER(J7),ISNUMBER(F7)),IF(G7="meses",EDATE(J7,F7),IF(G7="semanas",J7+7*F7,IF(G7="días",J7+F7,""))),"") | L7: =IF(ISNUMBER(K7),K7-TODAY(),"") | M7: =IF(ISNUMBER(L7),IF(L7<0,"Vencida",IF(L7<=7,"Vence en 7 días o menos","Programada")),"")
K8: =IF(AND(ISNUMBER(J8),ISNUMBER(F8)),IF(G8="meses",EDATE(J8,F8),IF(G8="semanas",J8+7*F8,IF(G8="días",J8+F8,""))),"") | L8: =IF(ISNUMBER(K8),K8-TODAY(),"") | M8: =IF(ISNUMBER(L8),IF(L8<0,"Vencida",IF(L8<=7,"Vence en 7 días o menos","Programada")),"")
K9: =IF(AND(ISNUMBER(J9),ISNUMBER(F9)),IF(G9="meses",EDATE(J9,F9),IF(G9="semanas",J9+7*F9,IF(G9="días",J9+F9,""))),"") | L9: =IF(ISNUMBER(K9),K9-TODAY(),"") | M9: =IF(ISNUMBER(L9),IF(L9<0,"Vencida",IF(L9<=7,"Vence en 7 días o menos","Programada")),"")
K10: =IF(AND(ISNUMBER(J10),ISNUMBER(F10)),IF(G10="meses",EDATE(J10,F10),IF(G10="semanas",J10+7*F10,IF(G10="días",J10+F10,""))),"") | L10: =IF(ISNUMBER(K10),K10-TODAY(),"") | M10: =IF(ISNUMBER(L10),IF(L10<0,"Vencida",IF(L10<=7,"Vence en 7 días o menos","Programada")),"")
K11: =IF(AND(ISNUMBER(J11),ISNUMBER(F11)),IF(G11="meses",EDATE(J11,F11),IF(G11="semanas",J11+7*F11,IF(G11="días",J11+F11,""))),"") | L11: =IF(ISNUMBER(K11),K11-TODAY(),"") | M11: =IF(ISNUMBER(L11),IF(L11<0,"Vencida",IF(L11<=7,"Vence en 7 días o menos","Programada")),"")
K12: =IF(AND(ISNUMBER(J12),ISNUMBER(F12)),IF(G12="meses",EDATE(J12,F12),IF(G12="semanas",J12+7*F12,IF(G12="días",J12+F12,""))),"") | L12: =IF(ISNUMBER(K12),K12-TODAY(),"") | M12: =IF(ISNUMBER(L12),IF(L12<0,"Vencida",IF(L12<=7,"Vence en 7 días o menos","Programada")),"")
K13: =IF(AND(ISNUMBER(J13),ISNUMBER(F13)),IF(G13="meses",EDATE(J13,F13),IF(G13="semanas",J13+7*F13,IF(G13="días",J13+F13,""))),"") | L13: =IF(ISNUMBER(K13),K13-TODAY(),"") | M13: =IF(ISNUMBER(L13),IF(L13<0,"Vencida",IF(L13<=7,"Vence en 7 días o menos","Programada")),"")
K14: =IF(AND(ISNUMBER(J14),ISNUMBER(F14)),IF(G14="meses",EDATE(J14,F14),IF(G14="semanas",J14+7*F14,IF(G14="días",J14+F14,""))),"") | L14: =IF(ISNUMBER(K14),K14-TODAY(),"") | M14: =IF(ISNUMBER(L14),IF(L14<0,"Vencida",IF(L14<=7,"Vence en 7 días o menos","Programada")),"")
K15: =IF(AND(ISNUMBER(J15),ISNUMBER(F15)),IF(G15="meses",EDATE(J15,F15),IF(G15="semanas",J15+7*F15,IF(G15="días",J15+F15,""))),"") | L15: =IF(ISNUMBER(K15),K15-TODAY(),"") | M15: =IF(ISNUMBER(L15),IF(L15<0,"Vencida",IF(L15<=7,"Vence en 7 días o menos","Programada")),"")
K16: =IF(AND(ISNUMBER(J16),ISNUMBER(F16)),IF(G16="meses",EDATE(J16,F16),IF(G16="semanas",J16+7*F16,IF(G16="días",J16+F16,""))),"") | L16: =IF(ISNUMBER(K16),K16-TODAY(),"") | M16: =IF(ISNUMBER(L16),IF(L16<0,"Vencida",IF(L16<=7,"Vence en 7 días o menos","Programada")),"")
K17: =IF(AND(ISNUMBER(J17),ISNUMBER(F17)),IF(G17="meses",EDATE(J17,F17),IF(G17="semanas",J17+7*F17,IF(G17="días",J17+F17,""))),"") | L17: =IF(ISNUMBER(K17),K17-TODAY(),"") | M17: =IF(ISNUMBER(L17),IF(L17<0,"Vencida",IF(L17<=7,"Vence en 7 días o menos","Programada")),"")
K18: =IF(AND(ISNUMBER(J18),ISNUMBER(F18)),IF(G18="meses",EDATE(J18,F18),IF(G18="semanas",J18+7*F18,IF(G18="días",J18+F18,""))),"") | L18: =IF(ISNUMBER(K18),K18-TODAY(),"") | M18: =IF(ISNUMBER(L18),IF(L18<0,"Vencida",IF(L18<=7,"Vence en 7 días o menos","Programada")),"")
... K106: =IF(AND(ISNUMBER(J106),ISNUMBER(F106)),IF(G106="meses",EDATE(J106,F106),IF(G106="semanas",J106+7*F106,IF(G106="días",J106+F106,""))),"") | L106: =IF(ISNUMBER(K106),K106-TODAY(),"") | M106: =IF(ISNUMBER(L106),IF(L106<0,"Vencida",IF(L106<=7,"Vence en 7 días o menos","Programada")),"")
A108: Plantilla en blanco. Las frecuencias vienen del fabricante, de su propio historial y de la normativa que aplica a su planta.

Sheet 52 semanas
A1: Cronograma de mantenimiento preventivo de 52 semanas
A2: En el cronograma de 52 semanas un mes cuenta como 30,4 días, así que una tarea mensual puede aparecer una semana antes o después; la fecha exacta está en la hoja Plan.
A3: Año | B3: =YEAR(TODAY())
E5: S1 | F5: S2 | G5: S3 | H5: S4 | I5: S5 | J5: S6 | K5: S7 | L5: S8 | M5: S9 | N5: S10 | O5: S11 | P5: S12 | Q5: S13 | R5: S14 | S5: S15 | T5: S16 | U5: S17 | V5: S18 | W5: S19 | X5: S20 | Y5: S21 | Z5: S22 | AA5: S23 | AB5: S24 | AC5: S25 | AD5: S26 | AE5: S27 | AF5: S28 | AG5: S29 | AH5: S30 | AI5: S31 | AJ5: S32 | AK5: S33 | AL5: S34 | AM5: S35 | AN5: S36 | AO5: S37 | AP5: S38 | AQ5: S39 | AR5: S40 | AS5: S41 | AT5: S42 | AU5: S43 | AV5: S44 | AW5: S45 | AX5: S46 | AY5: S47 | AZ5: S48 | BA5: S49 | BB5: S50 | BC5: S51 | BD5: S52
A6: Semana del | E6: =IF(ISNUMBER($B$3),DATE($B$3,1,4)-WEEKDAY(DATE($B$3,1,4),3)+0,"") | F6: =IF(ISNUMBER($B$3),DATE($B$3,1,4)-WEEKDAY(DATE($B$3,1,4),3)+7,"") | G6: =IF(ISNUMBER($B$3),DATE($B$3,1,4)-WEEKDAY(DATE($B$3,1,4),3)+14,"") | H6: =IF(ISNUMBER($B$3),DATE($B$3,1,4)-WEEKDAY(DATE($B$3,1,4),3)+21,"") | I6: =IF(ISNUMBER($B$3),DATE($B$3,1,4)-WEEKDAY(DATE($B$3,1,4),3)+28,"") | J6: =IF(ISNUMBER($B$3),DATE($B$3,1,4)-WEEKDAY(DATE($B$3,1,4),3)+35,"") | K6: =IF(ISNUMBER($B$3),DATE($B$3,1,4)-WEEKDAY(DATE($B$3,1,4),3)+42,"") | L6: =IF(ISNUMBER($B$3),DATE($B$3,1,4)-WEEKDAY(DATE($B$3,1,4),3)+49,"") | M6: =IF(ISNUMBER($B$3),DATE($B$3,1,4)-WEEKDAY(DATE($B$3,1,4),3)+56,"") | N6: =IF(ISNUMBER($B$3),DATE($B$3,1,4)-WEEKDAY(DATE($B$3,1,4),3)+63,"") | O6: =IF(ISNUMBER($B$3),DATE($B$3,1,4)-WEEKDAY(DATE($B$3,1,4),3)+70,"") | P6: =IF(ISNUMBER($B$3),DATE($B$3,1,4)-WEEKDAY(DATE($B$3,1,4),3)+77,"") | Q6: =IF(ISNUMBER($B$3),DATE($B$3,1,4)-WEEKDAY(DATE($B$3,1,4),3)+84,"") | R6: =IF(ISNUMBER($B$3),DATE($B$3,1,4)-WEEKDAY(DATE($B$3,1,4),3)+91,"") | S6: =IF(ISNUMBER($B$3),DATE($B$3,1,4)-WEEKDAY(DATE($B$3,1,4),3)+98,"") | T6: =IF(ISNUMBER($B$3),DATE($B$3,1,4)-WEEKDAY(DATE($B$3,1,4),3)+105,"") | U6: =IF(ISNUMBER($B$3),DATE($B$3,1,4)-WEEKDAY(DATE($B$3,1,4),3)+112,"") | V6: =IF(ISNUMBER($B$3),DATE($B$3,1,4)-WEEKDAY(DATE($B$3,1,4),3)+119,"") | W6: =IF(ISNUMBER($B$3),DATE($B$3,1,4)-WEEKDAY(DATE($B$3,1,4),3)+126,"") | X6: =IF(ISNUMBER($B$3),DATE($B$3,1,4)-WEEKDAY(DATE($B$3,1,4),3)+133,"") | Y6: =IF(ISNUMBER($B$3),DATE($B$3,1,4)-WEEKDAY(DATE($B$3,1,4),3)+140,"") | Z6: =IF(ISNUMBER($B$3),DATE($B$3,1,4)-WEEKDAY(DATE($B$3,1,4),3)+147,"") | AA6: =IF(ISNUMBER($B$3),DATE($B$3,1,4)-WEEKDAY(DATE($B$3,1,4),3)+154,"") | AB6: =IF(ISNUMBER($B$3),DATE($B$3,1,4)-WEEKDAY(DATE($B$3,1,4),3)+161,"") | AC6: =IF(ISNUMBER($B$3),DATE($B$3,1,4)-WEEKDAY(DATE($B$3,1,4),3)+168,"") | AD6: =IF(ISNUMBER($B$3),DATE($B$3,1,4)-WEEKDAY(DATE($B$3,1,4),3)+175,"") | AE6: =IF(ISNUMBER($B$3),DATE($B$3,1,4)-WEEKDAY(DATE($B$3,1,4),3)+182,"") | AF6: =IF(ISNUMBER($B$3),DATE($B$3,1,4)-WEEKDAY(DATE($B$3,1,4),3)+189,"") | AG6: =IF(ISNUMBER($B$3),DATE($B$3,1,4)-WEEKDAY(DATE($B$3,1,4),3)+196,"") | AH6: =IF(ISNUMBER($B$3),DATE($B$3,1,4)-WEEKDAY(DATE($B$3,1,4),3)+203,"") | AI6: =IF(ISNUMBER($B$3),DATE($B$3,1,4)-WEEKDAY(DATE($B$3,1,4),3)+210,"") | AJ6: =IF(ISNUMBER($B$3),DATE($B$3,1,4)-WEEKDAY(DATE($B$3,1,4),3)+217,"") | AK6: =IF(ISNUMBER($B$3),DATE($B$3,1,4)-WEEKDAY(DATE($B$3,1,4),3)+224,"") | AL6: =IF(ISNUMBER($B$3),DATE($B$3,1,4)-WEEKDAY(DATE($B$3,1,4),3)+231,"") | AM6: =IF(ISNUMBER($B$3),DATE($B$3,1,4)-WEEKDAY(DATE($B$3,1,4),3)+238,"") | AN6: =IF(ISNUMBER($B$3),DATE($B$3,1,4)-WEEKDAY(DATE($B$3,1,4),3)+245,"") | AO6: =IF(ISNUMBER($B$3),DATE($B$3,1,4)-WEEKDAY(DATE($B$3,1,4),3)+252,"") | AP6: =IF(ISNUMBER($B$3),DATE($B$3,1,4)-WEEKDAY(DATE($B$3,1,4),3)+259,"") | AQ6: =IF(ISNUMBER($B$3),DATE($B$3,1,4)-WEEKDAY(DATE($B$3,1,4),3)+266,"") | AR6: =IF(ISNUMBER($B$3),DATE($B$3,1,4)-WEEKDAY(DATE($B$3,1,4),3)+273,"") | AS6: =IF(ISNUMBER($B$3),DATE($B$3,1,4)-WEEKDAY(DATE($B$3,1,4),3)+280,"") | AT6: =IF(ISNUMBER($B$3),DATE($B$3,1,4)-WEEKDAY(DATE($B$3,1,4),3)+287,"") | AU6: =IF(ISNUMBER($B$3),DATE($B$3,1,4)-WEEKDAY(DATE($B$3,1,4),3)+294,"") | AV6: =IF(ISNUMBER($B$3),DATE($B$3,1,4)-WEEKDAY(DATE($B$3,1,4),3)+301,"") | AW6: =IF(ISNUMBER($B$3),DATE($B$3,1,4)-WEEKDAY(DATE($B$3,1,4),3)+308,"") | AX6: =IF(ISNUMBER($B$3),DATE($B$3,1,4)-WEEKDAY(DATE($B$3,1,4),3)+315,"") | AY6: =IF(ISNUMBER($B$3),DATE($B$3,1,4)-WEEKDAY(DATE($B$3,1,4),3)+322,"") | AZ6: =IF(ISNUMBER($B$3),DATE($B$3,1,4)-WEEKDAY(DATE($B$3,1,4),3)+329,"") | BA6: =IF(ISNUMBER($B$3),DATE($B$3,1,4)-WEEKDAY(DATE($B$3,1,4),3)+336,"") | BB6: =IF(ISNUMBER($B$3),DATE($B$3,1,4)-WEEKDAY(DATE($B$3,1,4),3)+343,"") | BC6: =IF(ISNUMBER($B$3),DATE($B$3,1,4)-WEEKDAY(DATE($B$3,1,4),3)+350,"") | BD6: =IF(ISNUMBER($B$3),DATE($B$3,1,4)-WEEKDAY(DATE($B$3,1,4),3)+357,"")
A7: Equipo | B7: Tarea | C7: Periodo (días) | D7: Duración (h)
A8: =IF('Plan'!B7="",IF('Plan'!A7="","",'Plan'!A7),'Plan'!B7) | B8: =IF('Plan'!D7="","",'Plan'!D7) | C8: =IF(ISNUMBER('Plan'!F7),IF('Plan'!G7="meses",'Plan'!F7*365.25/12,IF('Plan'!G7="semanas",'Plan'!F7*7,IF('Plan'!G7="días",'Plan'!F7,""))),"") | D8: =IF(ISNUMBER('Plan'!H7),'Plan'!H7,"") | E8: =IF(AND(ISNUMBER($C8),ISNUMBER('Plan'!$J7),ISNUMBER(E$6)),IF($C8>0,IF(INT((E$6+6-'Plan'!$J7)/$C8)>=MAX(1,-INT(-(E$6-'Plan'!$J7)/$C8)),"●",""),""),"") | F8: =IF(AND(ISNUMBER($C8),ISNUMBER('Plan'!$J7),ISNUMBER(F$6)),IF($C8>0,IF(INT((F$6+6-'Plan'!$J7)/$C8)>=MAX(1,-INT(-(F$6-'Plan'!$J7)/$C8)),"●",""),""),"") | G8: =IF(AND(ISNUMBER($C8),ISNUMBER('Plan'!$J7),ISNUMBER(G$6)),IF($C8>0,IF(INT((G$6+6-'Plan'!$J7)/$C8)>=MAX(1,-INT(-(G$6-'Plan'!$J7)/$C8)),"●",""),""),"") | H8: =IF(AND(ISNUMBER($C8),ISNUMBER('Plan'!$J7),ISNUMBER(H$6)),IF($C8>0,IF(INT((H$6+6-'Plan'!$J7)/$C8)>=MAX(1,-INT(-(H$6-'Plan'!$J7)/$C8)),"●",""),""),"") | I8: =IF(AND(ISNUMBER($C8),ISNUMBER('Plan'!$J7),ISNUMBER(I$6)),IF($C8>0,IF(INT((I$6+6-'Plan'!$J7)/$C8)>=MAX(1,-INT(-(I$6-'Plan'!$J7)/$C8)),"●",""),""),"") | J8: =IF(AND(ISNUMBER($C8),ISNUMBER('Plan'!$J7),ISNUMBER(J$6)),IF($C8>0,IF(INT((J$6+6-'Plan'!$J7)/$C8)>=MAX(1,-INT(-(J$6-'Plan'!$J7)/$C8)),"●",""),""),"") | K8: =IF(AND(ISNUMBER($C8),ISNUMBER('Plan'!$J7),ISNUMBER(K$6)),IF($C8>0,IF(INT((K$6+6-'Plan'!$J7)/$C8)>=MAX(1,-INT(-(K$6-'Plan'!$J7)/$C8)),"●",""),""),"") | L8: =IF(AND(ISNUMBER($C8),ISNUMBER('Plan'!$J7),ISNUMBER(L$6)),IF($C8>0,IF(INT((L$6+6-'Plan'!$J7)/$C8)>=MAX(1,-INT(-(L$6-'Plan'!$J7)/$C8)),"●",""),""),"") | ... BD8: =IF(AND(ISNUMBER($C8),ISNUMBER('Plan'!$J7),ISNUMBER(BD$6)),IF($C8>0,IF(INT((BD$6+6-'Plan'!$J7)/$C8)>=MAX(1,-INT(-(BD$6-'Plan'!$J7)/$C8)),"●",""),""),"")
A9: =IF('Plan'!B8="",IF('Plan'!A8="","",'Plan'!A8),'Plan'!B8) | B9: =IF('Plan'!D8="","",'Plan'!D8) | C9: =IF(ISNUMBER('Plan'!F8),IF('Plan'!G8="meses",'Plan'!F8*365.25/12,IF('Plan'!G8="semanas",'Plan'!F8*7,IF('Plan'!G8="días",'Plan'!F8,""))),"") | D9: =IF(ISNUMBER('Plan'!H8),'Plan'!H8,"") | E9: =IF(AND(ISNUMBER($C9),ISNUMBER('Plan'!$J8),ISNUMBER(E$6)),IF($C9>0,IF(INT((E$6+6-'Plan'!$J8)/$C9)>=MAX(1,-INT(-(E$6-'Plan'!$J8)/$C9)),"●",""),""),"") | F9: =IF(AND(ISNUMBER($C9),ISNUMBER('Plan'!$J8),ISNUMBER(F$6)),IF($C9>0,IF(INT((F$6+6-'Plan'!$J8)/$C9)>=MAX(1,-INT(-(F$6-'Plan'!$J8)/$C9)),"●",""),""),"") | G9: =IF(AND(ISNUMBER($C9),ISNUMBER('Plan'!$J8),ISNUMBER(G$6)),IF($C9>0,IF(INT((G$6+6-'Plan'!$J8)/$C9)>=MAX(1,-INT(-(G$6-'Plan'!$J8)/$C9)),"●",""),""),"") | H9: =IF(AND(ISNUMBER($C9),ISNUMBER('Plan'!$J8),ISNUMBER(H$6)),IF($C9>0,IF(INT((H$6+6-'Plan'!$J8)/$C9)>=MAX(1,-INT(-(H$6-'Plan'!$J8)/$C9)),"●",""),""),"") | I9: =IF(AND(ISNUMBER($C9),ISNUMBER('Plan'!$J8),ISNUMBER(I$6)),IF($C9>0,IF(INT((I$6+6-'Plan'!$J8)/$C9)>=MAX(1,-INT(-(I$6-'Plan'!$J8)/$C9)),"●",""),""),"") | J9: =IF(AND(ISNUMBER($C9),ISNUMBER('Plan'!$J8),ISNUMBER(J$6)),IF($C9>0,IF(INT((J$6+6-'Plan'!$J8)/$C9)>=MAX(1,-INT(-(J$6-'Plan'!$J8)/$C9)),"●",""),""),"") | K9: =IF(AND(ISNUMBER($C9),ISNUMBER('Plan'!$J8),ISNUMBER(K$6)),IF($C9>0,IF(INT((K$6+6-'Plan'!$J8)/$C9)>=MAX(1,-INT(-(K$6-'Plan'!$J8)/$C9)),"●",""),""),"") | L9: =IF(AND(ISNUMBER($C9),ISNUMBER('Plan'!$J8),ISNUMBER(L$6)),IF($C9>0,IF(INT((L$6+6-'Plan'!$J8)/$C9)>=MAX(1,-INT(-(L$6-'Plan'!$J8)/$C9)),"●",""),""),"") | ... BD9: =IF(AND(ISNUMBER($C9),ISNUMBER('Plan'!$J8),ISNUMBER(BD$6)),IF($C9>0,IF(INT((BD$6+6-'Plan'!$J8)/$C9)>=MAX(1,-INT(-(BD$6-'Plan'!$J8)/$C9)),"●",""),""),"")
A10: =IF('Plan'!B9="",IF('Plan'!A9="","",'Plan'!A9),'Plan'!B9) | B10: =IF('Plan'!D9="","",'Plan'!D9) | C10: =IF(ISNUMBER('Plan'!F9),IF('Plan'!G9="meses",'Plan'!F9*365.25/12,IF('Plan'!G9="semanas",'Plan'!F9*7,IF('Plan'!G9="días",'Plan'!F9,""))),"") | D10: =IF(ISNUMBER('Plan'!H9),'Plan'!H9,"") | E10: =IF(AND(ISNUMBER($C10),ISNUMBER('Plan'!$J9),ISNUMBER(E$6)),IF($C10>0,IF(INT((E$6+6-'Plan'!$J9)/$C10)>=MAX(1,-INT(-(E$6-'Plan'!$J9)/$C10)),"●",""),""),"") | F10: =IF(AND(ISNUMBER($C10),ISNUMBER('Plan'!$J9),ISNUMBER(F$6)),IF($C10>0,IF(INT((F$6+6-'Plan'!$J9)/$C10)>=MAX(1,-INT(-(F$6-'Plan'!$J9)/$C10)),"●",""),""),"") | G10: =IF(AND(ISNUMBER($C10),ISNUMBER('Plan'!$J9),ISNUMBER(G$6)),IF($C10>0,IF(INT((G$6+6-'Plan'!$J9)/$C10)>=MAX(1,-INT(-(G$6-'Plan'!$J9)/$C10)),"●",""),""),"") | H10: =IF(AND(ISNUMBER($C10),ISNUMBER('Plan'!$J9),ISNUMBER(H$6)),IF($C10>0,IF(INT((H$6+6-'Plan'!$J9)/$C10)>=MAX(1,-INT(-(H$6-'Plan'!$J9)/$C10)),"●",""),""),"") | I10: =IF(AND(ISNUMBER($C10),ISNUMBER('Plan'!$J9),ISNUMBER(I$6)),IF($C10>0,IF(INT((I$6+6-'Plan'!$J9)/$C10)>=MAX(1,-INT(-(I$6-'Plan'!$J9)/$C10)),"●",""),""),"") | J10: =IF(AND(ISNUMBER($C10),ISNUMBER('Plan'!$J9),ISNUMBER(J$6)),IF($C10>0,IF(INT((J$6+6-'Plan'!$J9)/$C10)>=MAX(1,-INT(-(J$6-'Plan'!$J9)/$C10)),"●",""),""),"") | K10: =IF(AND(ISNUMBER($C10),ISNUMBER('Plan'!$J9),ISNUMBER(K$6)),IF($C10>0,IF(INT((K$6+6-'Plan'!$J9)/$C10)>=MAX(1,-INT(-(K$6-'Plan'!$J9)/$C10)),"●",""),""),"") | L10: =IF(AND(ISNUMBER($C10),ISNUMBER('Plan'!$J9),ISNUMBER(L$6)),IF($C10>0,IF(INT((L$6+6-'Plan'!$J9)/$C10)>=MAX(1,-INT(-(L$6-'Plan'!$J9)/$C10)),"●",""),""),"") | ... BD10: =IF(AND(ISNUMBER($C10),ISNUMBER('Plan'!$J9),ISNUMBER(BD$6)),IF($C10>0,IF(INT((BD$6+6-'Plan'!$J9)/$C10)>=MAX(1,-INT(-(BD$6-'Plan'!$J9)/$C10)),"●",""),""),"")
A11: =IF('Plan'!B10="",IF('Plan'!A10="","",'Plan'!A10),'Plan'!B10) | B11: =IF('Plan'!D10="","",'Plan'!D10) | C11: =IF(ISNUMBER('Plan'!F10),IF('Plan'!G10="meses",'Plan'!F10*365.25/12,IF('Plan'!G10="semanas",'Plan'!F10*7,IF('Plan'!G10="días",'Plan'!F10,""))),"") | D11: =IF(ISNUMBER('Plan'!H10),'Plan'!H10,"") | E11: =IF(AND(ISNUMBER($C11),ISNUMBER('Plan'!$J10),ISNUMBER(E$6)),IF($C11>0,IF(INT((E$6+6-'Plan'!$J10)/$C11)>=MAX(1,-INT(-(E$6-'Plan'!$J10)/$C11)),"●",""),""),"") | F11: =IF(AND(ISNUMBER($C11),ISNUMBER('Plan'!$J10),ISNUMBER(F$6)),IF($C11>0,IF(INT((F$6+6-'Plan'!$J10)/$C11)>=MAX(1,-INT(-(F$6-'Plan'!$J10)/$C11)),"●",""),""),"") | G11: =IF(AND(ISNUMBER($C11),ISNUMBER('Plan'!$J10),ISNUMBER(G$6)),IF($C11>0,IF(INT((G$6+6-'Plan'!$J10)/$C11)>=MAX(1,-INT(-(G$6-'Plan'!$J10)/$C11)),"●",""),""),"") | H11: =IF(AND(ISNUMBER($C11),ISNUMBER('Plan'!$J10),ISNUMBER(H$6)),IF($C11>0,IF(INT((H$6+6-'Plan'!$J10)/$C11)>=MAX(1,-INT(-(H$6-'Plan'!$J10)/$C11)),"●",""),""),"") | I11: =IF(AND(ISNUMBER($C11),ISNUMBER('Plan'!$J10),ISNUMBER(I$6)),IF($C11>0,IF(INT((I$6+6-'Plan'!$J10)/$C11)>=MAX(1,-INT(-(I$6-'Plan'!$J10)/$C11)),"●",""),""),"") | J11: =IF(AND(ISNUMBER($C11),ISNUMBER('Plan'!$J10),ISNUMBER(J$6)),IF($C11>0,IF(INT((J$6+6-'Plan'!$J10)/$C11)>=MAX(1,-INT(-(J$6-'Plan'!$J10)/$C11)),"●",""),""),"") | K11: =IF(AND(ISNUMBER($C11),ISNUMBER('Plan'!$J10),ISNUMBER(K$6)),IF($C11>0,IF(INT((K$6+6-'Plan'!$J10)/$C11)>=MAX(1,-INT(-(K$6-'Plan'!$J10)/$C11)),"●",""),""),"") | L11: =IF(AND(ISNUMBER($C11),ISNUMBER('Plan'!$J10),ISNUMBER(L$6)),IF($C11>0,IF(INT((L$6+6-'Plan'!$J10)/$C11)>=MAX(1,-INT(-(L$6-'Plan'!$J10)/$C11)),"●",""),""),"") | ... BD11: =IF(AND(ISNUMBER($C11),ISNUMBER('Plan'!$J10),ISNUMBER(BD$6)),IF($C11>0,IF(INT((BD$6+6-'Plan'!$J10)/$C11)>=MAX(1,-INT(-(BD$6-'Plan'!$J10)/$C11)),"●",""),""),"")
A12: =IF('Plan'!B11="",IF('Plan'!A11="","",'Plan'!A11),'Plan'!B11) | B12: =IF('Plan'!D11="","",'Plan'!D11) | C12: =IF(ISNUMBER('Plan'!F11),IF('Plan'!G11="meses",'Plan'!F11*365.25/12,IF('Plan'!G11="semanas",'Plan'!F11*7,IF('Plan'!G11="días",'Plan'!F11,""))),"") | D12: =IF(ISNUMBER('Plan'!H11),'Plan'!H11,"") | E12: =IF(AND(ISNUMBER($C12),ISNUMBER('Plan'!$J11),ISNUMBER(E$6)),IF($C12>0,IF(INT((E$6+6-'Plan'!$J11)/$C12)>=MAX(1,-INT(-(E$6-'Plan'!$J11)/$C12)),"●",""),""),"") | F12: =IF(AND(ISNUMBER($C12),ISNUMBER('Plan'!$J11),ISNUMBER(F$6)),IF($C12>0,IF(INT((F$6+6-'Plan'!$J11)/$C12)>=MAX(1,-INT(-(F$6-'Plan'!$J11)/$C12)),"●",""),""),"") | G12: =IF(AND(ISNUMBER($C12),ISNUMBER('Plan'!$J11),ISNUMBER(G$6)),IF($C12>0,IF(INT((G$6+6-'Plan'!$J11)/$C12)>=MAX(1,-INT(-(G$6-'Plan'!$J11)/$C12)),"●",""),""),"") | H12: =IF(AND(ISNUMBER($C12),ISNUMBER('Plan'!$J11),ISNUMBER(H$6)),IF($C12>0,IF(INT((H$6+6-'Plan'!$J11)/$C12)>=MAX(1,-INT(-(H$6-'Plan'!$J11)/$C12)),"●",""),""),"") | I12: =IF(AND(ISNUMBER($C12),ISNUMBER('Plan'!$J11),ISNUMBER(I$6)),IF($C12>0,IF(INT((I$6+6-'Plan'!$J11)/$C12)>=MAX(1,-INT(-(I$6-'Plan'!$J11)/$C12)),"●",""),""),"") | J12: =IF(AND(ISNUMBER($C12),ISNUMBER('Plan'!$J11),ISNUMBER(J$6)),IF($C12>0,IF(INT((J$6+6-'Plan'!$J11)/$C12)>=MAX(1,-INT(-(J$6-'Plan'!$J11)/$C12)),"●",""),""),"") | K12: =IF(AND(ISNUMBER($C12),ISNUMBER('Plan'!$J11),ISNUMBER(K$6)),IF($C12>0,IF(INT((K$6+6-'Plan'!$J11)/$C12)>=MAX(1,-INT(-(K$6-'Plan'!$J11)/$C12)),"●",""),""),"") | L12: =IF(AND(ISNUMBER($C12),ISNUMBER('Plan'!$J11),ISNUMBER(L$6)),IF($C12>0,IF(INT((L$6+6-'Plan'!$J11)/$C12)>=MAX(1,-INT(-(L$6-'Plan'!$J11)/$C12)),"●",""),""),"") | ... BD12: =IF(AND(ISNUMBER($C12),ISNUMBER('Plan'!$J11),ISNUMBER(BD$6)),IF($C12>0,IF(INT((BD$6+6-'Plan'!$J11)/$C12)>=MAX(1,-INT(-(BD$6-'Plan'!$J11)/$C12)),"●",""),""),"")
A13: =IF('Plan'!B12="",IF('Plan'!A12="","",'Plan'!A12),'Plan'!B12) | B13: =IF('Plan'!D12="","",'Plan'!D12) | C13: =IF(ISNUMBER('Plan'!F12),IF('Plan'!G12="meses",'Plan'!F12*365.25/12,IF('Plan'!G12="semanas",'Plan'!F12*7,IF('Plan'!G12="días",'Plan'!F12,""))),"") | D13: =IF(ISNUMBER('Plan'!H12),'Plan'!H12,"") | E13: =IF(AND(ISNUMBER($C13),ISNUMBER('Plan'!$J12),ISNUMBER(E$6)),IF($C13>0,IF(INT((E$6+6-'Plan'!$J12)/$C13)>=MAX(1,-INT(-(E$6-'Plan'!$J12)/$C13)),"●",""),""),"") | F13: =IF(AND(ISNUMBER($C13),ISNUMBER('Plan'!$J12),ISNUMBER(F$6)),IF($C13>0,IF(INT((F$6+6-'Plan'!$J12)/$C13)>=MAX(1,-INT(-(F$6-'Plan'!$J12)/$C13)),"●",""),""),"") | G13: =IF(AND(ISNUMBER($C13),ISNUMBER('Plan'!$J12),ISNUMBER(G$6)),IF($C13>0,IF(INT((G$6+6-'Plan'!$J12)/$C13)>=MAX(1,-INT(-(G$6-'Plan'!$J12)/$C13)),"●",""),""),"") | H13: =IF(AND(ISNUMBER($C13),ISNUMBER('Plan'!$J12),ISNUMBER(H$6)),IF($C13>0,IF(INT((H$6+6-'Plan'!$J12)/$C13)>=MAX(1,-INT(-(H$6-'Plan'!$J12)/$C13)),"●",""),""),"") | I13: =IF(AND(ISNUMBER($C13),ISNUMBER('Plan'!$J12),ISNUMBER(I$6)),IF($C13>0,IF(INT((I$6+6-'Plan'!$J12)/$C13)>=MAX(1,-INT(-(I$6-'Plan'!$J12)/$C13)),"●",""),""),"") | J13: =IF(AND(ISNUMBER($C13),ISNUMBER('Plan'!$J12),ISNUMBER(J$6)),IF($C13>0,IF(INT((J$6+6-'Plan'!$J12)/$C13)>=MAX(1,-INT(-(J$6-'Plan'!$J12)/$C13)),"●",""),""),"") | K13: =IF(AND(ISNUMBER($C13),ISNUMBER('Plan'!$J12),ISNUMBER(K$6)),IF($C13>0,IF(INT((K$6+6-'Plan'!$J12)/$C13)>=MAX(1,-INT(-(K$6-'Plan'!$J12)/$C13)),"●",""),""),"") | L13: =IF(AND(ISNUMBER($C13),ISNUMBER('Plan'!$J12),ISNUMBER(L$6)),IF($C13>0,IF(INT((L$6+6-'Plan'!$J12)/$C13)>=MAX(1,-INT(-(L$6-'Plan'!$J12)/$C13)),"●",""),""),"") | ... BD13: =IF(AND(ISNUMBER($C13),ISNUMBER('Plan'!$J12),ISNUMBER(BD$6)),IF($C13>0,IF(INT((BD$6+6-'Plan'!$J12)/$C13)>=MAX(1,-INT(-(BD$6-'Plan'!$J12)/$C13)),"●",""),""),"")
A14: =IF('Plan'!B13="",IF('Plan'!A13="","",'Plan'!A13),'Plan'!B13) | B14: =IF('Plan'!D13="","",'Plan'!D13) | C14: =IF(ISNUMBER('Plan'!F13),IF('Plan'!G13="meses",'Plan'!F13*365.25/12,IF('Plan'!G13="semanas",'Plan'!F13*7,IF('Plan'!G13="días",'Plan'!F13,""))),"") | D14: =IF(ISNUMBER('Plan'!H13),'Plan'!H13,"") | E14: =IF(AND(ISNUMBER($C14),ISNUMBER('Plan'!$J13),ISNUMBER(E$6)),IF($C14>0,IF(INT((E$6+6-'Plan'!$J13)/$C14)>=MAX(1,-INT(-(E$6-'Plan'!$J13)/$C14)),"●",""),""),"") | F14: =IF(AND(ISNUMBER($C14),ISNUMBER('Plan'!$J13),ISNUMBER(F$6)),IF($C14>0,IF(INT((F$6+6-'Plan'!$J13)/$C14)>=MAX(1,-INT(-(F$6-'Plan'!$J13)/$C14)),"●",""),""),"") | G14: =IF(AND(ISNUMBER($C14),ISNUMBER('Plan'!$J13),ISNUMBER(G$6)),IF($C14>0,IF(INT((G$6+6-'Plan'!$J13)/$C14)>=MAX(1,-INT(-(G$6-'Plan'!$J13)/$C14)),"●",""),""),"") | H14: =IF(AND(ISNUMBER($C14),ISNUMBER('Plan'!$J13),ISNUMBER(H$6)),IF($C14>0,IF(INT((H$6+6-'Plan'!$J13)/$C14)>=MAX(1,-INT(-(H$6-'Plan'!$J13)/$C14)),"●",""),""),"") | I14: =IF(AND(ISNUMBER($C14),ISNUMBER('Plan'!$J13),ISNUMBER(I$6)),IF($C14>0,IF(INT((I$6+6-'Plan'!$J13)/$C14)>=MAX(1,-INT(-(I$6-'Plan'!$J13)/$C14)),"●",""),""),"") | J14: =IF(AND(ISNUMBER($C14),ISNUMBER('Plan'!$J13),ISNUMBER(J$6)),IF($C14>0,IF(INT((J$6+6-'Plan'!$J13)/$C14)>=MAX(1,-INT(-(J$6-'Plan'!$J13)/$C14)),"●",""),""),"") | K14: =IF(AND(ISNUMBER($C14),ISNUMBER('Plan'!$J13),ISNUMBER(K$6)),IF($C14>0,IF(INT((K$6+6-'Plan'!$J13)/$C14)>=MAX(1,-INT(-(K$6-'Plan'!$J13)/$C14)),"●",""),""),"") | L14: =IF(AND(ISNUMBER($C14),ISNUMBER('Plan'!$J13),ISNUMBER(L$6)),IF($C14>0,IF(INT((L$6+6-'Plan'!$J13)/$C14)>=MAX(1,-INT(-(L$6-'Plan'!$J13)/$C14)),"●",""),""),"") | ... BD14: =IF(AND(ISNUMBER($C14),ISNUMBER('Plan'!$J13),ISNUMBER(BD$6)),IF($C14>0,IF(INT((BD$6+6-'Plan'!$J13)/$C14)>=MAX(1,-INT(-(BD$6-'Plan'!$J13)/$C14)),"●",""),""),"")
A15: =IF('Plan'!B14="",IF('Plan'!A14="","",'Plan'!A14),'Plan'!B14) | B15: =IF('Plan'!D14="","",'Plan'!D14) | C15: =IF(ISNUMBER('Plan'!F14),IF('Plan'!G14="meses",'Plan'!F14*365.25/12,IF('Plan'!G14="semanas",'Plan'!F14*7,IF('Plan'!G14="días",'Plan'!F14,""))),"") | D15: =IF(ISNUMBER('Plan'!H14),'Plan'!H14,"") | E15: =IF(AND(ISNUMBER($C15),ISNUMBER('Plan'!$J14),ISNUMBER(E$6)),IF($C15>0,IF(INT((E$6+6-'Plan'!$J14)/$C15)>=MAX(1,-INT(-(E$6-'Plan'!$J14)/$C15)),"●",""),""),"") | F15: =IF(AND(ISNUMBER($C15),ISNUMBER('Plan'!$J14),ISNUMBER(F$6)),IF($C15>0,IF(INT((F$6+6-'Plan'!$J14)/$C15)>=MAX(1,-INT(-(F$6-'Plan'!$J14)/$C15)),"●",""),""),"") | G15: =IF(AND(ISNUMBER($C15),ISNUMBER('Plan'!$J14),ISNUMBER(G$6)),IF($C15>0,IF(INT((G$6+6-'Plan'!$J14)/$C15)>=MAX(1,-INT(-(G$6-'Plan'!$J14)/$C15)),"●",""),""),"") | H15: =IF(AND(ISNUMBER($C15),ISNUMBER('Plan'!$J14),ISNUMBER(H$6)),IF($C15>0,IF(INT((H$6+6-'Plan'!$J14)/$C15)>=MAX(1,-INT(-(H$6-'Plan'!$J14)/$C15)),"●",""),""),"") | I15: =IF(AND(ISNUMBER($C15),ISNUMBER('Plan'!$J14),ISNUMBER(I$6)),IF($C15>0,IF(INT((I$6+6-'Plan'!$J14)/$C15)>=MAX(1,-INT(-(I$6-'Plan'!$J14)/$C15)),"●",""),""),"") | J15: =IF(AND(ISNUMBER($C15),ISNUMBER('Plan'!$J14),ISNUMBER(J$6)),IF($C15>0,IF(INT((J$6+6-'Plan'!$J14)/$C15)>=MAX(1,-INT(-(J$6-'Plan'!$J14)/$C15)),"●",""),""),"") | K15: =IF(AND(ISNUMBER($C15),ISNUMBER('Plan'!$J14),ISNUMBER(K$6)),IF($C15>0,IF(INT((K$6+6-'Plan'!$J14)/$C15)>=MAX(1,-INT(-(K$6-'Plan'!$J14)/$C15)),"●",""),""),"") | L15: =IF(AND(ISNUMBER($C15),ISNUMBER('Plan'!$J14),ISNUMBER(L$6)),IF($C15>0,IF(INT((L$6+6-'Plan'!$J14)/$C15)>=MAX(1,-INT(-(L$6-'Plan'!$J14)/$C15)),"●",""),""),"") | ... BD15: =IF(AND(ISNUMBER($C15),ISNUMBER('Plan'!$J14),ISNUMBER(BD$6)),IF($C15>0,IF(INT((BD$6+6-'Plan'!$J14)/$C15)>=MAX(1,-INT(-(BD$6-'Plan'!$J14)/$C15)),"●",""),""),"")
A16: =IF('Plan'!B15="",IF('Plan'!A15="","",'Plan'!A15),'Plan'!B15) | B16: =IF('Plan'!D15="","",'Plan'!D15) | C16: =IF(ISNUMBER('Plan'!F15),IF('Plan'!G15="meses",'Plan'!F15*365.25/12,IF('Plan'!G15="semanas",'Plan'!F15*7,IF('Plan'!G15="días",'Plan'!F15,""))),"") | D16: =IF(ISNUMBER('Plan'!H15),'Plan'!H15,"") | E16: =IF(AND(ISNUMBER($C16),ISNUMBER('Plan'!$J15),ISNUMBER(E$6)),IF($C16>0,IF(INT((E$6+6-'Plan'!$J15)/$C16)>=MAX(1,-INT(-(E$6-'Plan'!$J15)/$C16)),"●",""),""),"") | F16: =IF(AND(ISNUMBER($C16),ISNUMBER('Plan'!$J15),ISNUMBER(F$6)),IF($C16>0,IF(INT((F$6+6-'Plan'!$J15)/$C16)>=MAX(1,-INT(-(F$6-'Plan'!$J15)/$C16)),"●",""),""),"") | G16: =IF(AND(ISNUMBER($C16),ISNUMBER('Plan'!$J15),ISNUMBER(G$6)),IF($C16>0,IF(INT((G$6+6-'Plan'!$J15)/$C16)>=MAX(1,-INT(-(G$6-'Plan'!$J15)/$C16)),"●",""),""),"") | H16: =IF(AND(ISNUMBER($C16),ISNUMBER('Plan'!$J15),ISNUMBER(H$6)),IF($C16>0,IF(INT((H$6+6-'Plan'!$J15)/$C16)>=MAX(1,-INT(-(H$6-'Plan'!$J15)/$C16)),"●",""),""),"") | I16: =IF(AND(ISNUMBER($C16),ISNUMBER('Plan'!$J15),ISNUMBER(I$6)),IF($C16>0,IF(INT((I$6+6-'Plan'!$J15)/$C16)>=MAX(1,-INT(-(I$6-'Plan'!$J15)/$C16)),"●",""),""),"") | J16: =IF(AND(ISNUMBER($C16),ISNUMBER('Plan'!$J15),ISNUMBER(J$6)),IF($C16>0,IF(INT((J$6+6-'Plan'!$J15)/$C16)>=MAX(1,-INT(-(J$6-'Plan'!$J15)/$C16)),"●",""),""),"") | K16: =IF(AND(ISNUMBER($C16),ISNUMBER('Plan'!$J15),ISNUMBER(K$6)),IF($C16>0,IF(INT((K$6+6-'Plan'!$J15)/$C16)>=MAX(1,-INT(-(K$6-'Plan'!$J15)/$C16)),"●",""),""),"") | L16: =IF(AND(ISNUMBER($C16),ISNUMBER('Plan'!$J15),ISNUMBER(L$6)),IF($C16>0,IF(INT((L$6+6-'Plan'!$J15)/$C16)>=MAX(1,-INT(-(L$6-'Plan'!$J15)/$C16)),"●",""),""),"") | ... BD16: =IF(AND(ISNUMBER($C16),ISNUMBER('Plan'!$J15),ISNUMBER(BD$6)),IF($C16>0,IF(INT((BD$6+6-'Plan'!$J15)/$C16)>=MAX(1,-INT(-(BD$6-'Plan'!$J15)/$C16)),"●",""),""),"")
A17: =IF('Plan'!B16="",IF('Plan'!A16="","",'Plan'!A16),'Plan'!B16) | B17: =IF('Plan'!D16="","",'Plan'!D16) | C17: =IF(ISNUMBER('Plan'!F16),IF('Plan'!G16="meses",'Plan'!F16*365.25/12,IF('Plan'!G16="semanas",'Plan'!F16*7,IF('Plan'!G16="días",'Plan'!F16,""))),"") | D17: =IF(ISNUMBER('Plan'!H16),'Plan'!H16,"") | E17: =IF(AND(ISNUMBER($C17),ISNUMBER('Plan'!$J16),ISNUMBER(E$6)),IF($C17>0,IF(INT((E$6+6-'Plan'!$J16)/$C17)>=MAX(1,-INT(-(E$6-'Plan'!$J16)/$C17)),"●",""),""),"") | F17: =IF(AND(ISNUMBER($C17),ISNUMBER('Plan'!$J16),ISNUMBER(F$6)),IF($C17>0,IF(INT((F$6+6-'Plan'!$J16)/$C17)>=MAX(1,-INT(-(F$6-'Plan'!$J16)/$C17)),"●",""),""),"") | G17: =IF(AND(ISNUMBER($C17),ISNUMBER('Plan'!$J16),ISNUMBER(G$6)),IF($C17>0,IF(INT((G$6+6-'Plan'!$J16)/$C17)>=MAX(1,-INT(-(G$6-'Plan'!$J16)/$C17)),"●",""),""),"") | H17: =IF(AND(ISNUMBER($C17),ISNUMBER('Plan'!$J16),ISNUMBER(H$6)),IF($C17>0,IF(INT((H$6+6-'Plan'!$J16)/$C17)>=MAX(1,-INT(-(H$6-'Plan'!$J16)/$C17)),"●",""),""),"") | I17: =IF(AND(ISNUMBER($C17),ISNUMBER('Plan'!$J16),ISNUMBER(I$6)),IF($C17>0,IF(INT((I$6+6-'Plan'!$J16)/$C17)>=MAX(1,-INT(-(I$6-'Plan'!$J16)/$C17)),"●",""),""),"") | J17: =IF(AND(ISNUMBER($C17),ISNUMBER('Plan'!$J16),ISNUMBER(J$6)),IF($C17>0,IF(INT((J$6+6-'Plan'!$J16)/$C17)>=MAX(1,-INT(-(J$6-'Plan'!$J16)/$C17)),"●",""),""),"") | K17: =IF(AND(ISNUMBER($C17),ISNUMBER('Plan'!$J16),ISNUMBER(K$6)),IF($C17>0,IF(INT((K$6+6-'Plan'!$J16)/$C17)>=MAX(1,-INT(-(K$6-'Plan'!$J16)/$C17)),"●",""),""),"") | L17: =IF(AND(ISNUMBER($C17),ISNUMBER('Plan'!$J16),ISNUMBER(L$6)),IF($C17>0,IF(INT((L$6+6-'Plan'!$J16)/$C17)>=MAX(1,-INT(-(L$6-'Plan'!$J16)/$C17)),"●",""),""),"") | ... BD17: =IF(AND(ISNUMBER($C17),ISNUMBER('Plan'!$J16),ISNUMBER(BD$6)),IF($C17>0,IF(INT((BD$6+6-'Plan'!$J16)/$C17)>=MAX(1,-INT(-(BD$6-'Plan'!$J16)/$C17)),"●",""),""),"")
A18: =IF('Plan'!B17="",IF('Plan'!A17="","",'Plan'!A17),'Plan'!B17) | B18: =IF('Plan'!D17="","",'Plan'!D17) | C18: =IF(ISNUMBER('Plan'!F17),IF('Plan'!G17="meses",'Plan'!F17*365.25/12,IF('Plan'!G17="semanas",'Plan'!F17*7,IF('Plan'!G17="días",'Plan'!F17,""))),"") | D18: =IF(ISNUMBER('Plan'!H17),'Plan'!H17,"") | E18: =IF(AND(ISNUMBER($C18),ISNUMBER('Plan'!$J17),ISNUMBER(E$6)),IF($C18>0,IF(INT((E$6+6-'Plan'!$J17)/$C18)>=MAX(1,-INT(-(E$6-'Plan'!$J17)/$C18)),"●",""),""),"") | F18: =IF(AND(ISNUMBER($C18),ISNUMBER('Plan'!$J17),ISNUMBER(F$6)),IF($C18>0,IF(INT((F$6+6-'Plan'!$J17)/$C18)>=MAX(1,-INT(-(F$6-'Plan'!$J17)/$C18)),"●",""),""),"") | G18: =IF(AND(ISNUMBER($C18),ISNUMBER('Plan'!$J17),ISNUMBER(G$6)),IF($C18>0,IF(INT((G$6+6-'Plan'!$J17)/$C18)>=MAX(1,-INT(-(G$6-'Plan'!$J17)/$C18)),"●",""),""),"") | H18: =IF(AND(ISNUMBER($C18),ISNUMBER('Plan'!$J17),ISNUMBER(H$6)),IF($C18>0,IF(INT((H$6+6-'Plan'!$J17)/$C18)>=MAX(1,-INT(-(H$6-'Plan'!$J17)/$C18)),"●",""),""),"") | I18: =IF(AND(ISNUMBER($C18),ISNUMBER('Plan'!$J17),ISNUMBER(I$6)),IF($C18>0,IF(INT((I$6+6-'Plan'!$J17)/$C18)>=MAX(1,-INT(-(I$6-'Plan'!$J17)/$C18)),"●",""),""),"") | J18: =IF(AND(ISNUMBER($C18),ISNUMBER('Plan'!$J17),ISNUMBER(J$6)),IF($C18>0,IF(INT((J$6+6-'Plan'!$J17)/$C18)>=MAX(1,-INT(-(J$6-'Plan'!$J17)/$C18)),"●",""),""),"") | K18: =IF(AND(ISNUMBER($C18),ISNUMBER('Plan'!$J17),ISNUMBER(K$6)),IF($C18>0,IF(INT((K$6+6-'Plan'!$J17)/$C18)>=MAX(1,-INT(-(K$6-'Plan'!$J17)/$C18)),"●",""),""),"") | L18: =IF(AND(ISNUMBER($C18),ISNUMBER('Plan'!$J17),ISNUMBER(L$6)),IF($C18>0,IF(INT((L$6+6-'Plan'!$J17)/$C18)>=MAX(1,-INT(-(L$6-'Plan'!$J17)/$C18)),"●",""),""),"") | ... BD18: =IF(AND(ISNUMBER($C18),ISNUMBER('Plan'!$J17),ISNUMBER(BD$6)),IF($C18>0,IF(INT((BD$6+6-'Plan'!$J17)/$C18)>=MAX(1,-INT(-(BD$6-'Plan'!$J17)/$C18)),"●",""),""),"")
A19: =IF('Plan'!B18="",IF('Plan'!A18="","",'Plan'!A18),'Plan'!B18) | B19: =IF('Plan'!D18="","",'Plan'!D18) | C19: =IF(ISNUMBER('Plan'!F18),IF('Plan'!G18="meses",'Plan'!F18*365.25/12,IF('Plan'!G18="semanas",'Plan'!F18*7,IF('Plan'!G18="días",'Plan'!F18,""))),"") | D19: =IF(ISNUMBER('Plan'!H18),'Plan'!H18,"") | E19: =IF(AND(ISNUMBER($C19),ISNUMBER('Plan'!$J18),ISNUMBER(E$6)),IF($C19>0,IF(INT((E$6+6-'Plan'!$J18)/$C19)>=MAX(1,-INT(-(E$6-'Plan'!$J18)/$C19)),"●",""),""),"") | F19: =IF(AND(ISNUMBER($C19),ISNUMBER('Plan'!$J18),ISNUMBER(F$6)),IF($C19>0,IF(INT((F$6+6-'Plan'!$J18)/$C19)>=MAX(1,-INT(-(F$6-'Plan'!$J18)/$C19)),"●",""),""),"") | G19: =IF(AND(ISNUMBER($C19),ISNUMBER('Plan'!$J18),ISNUMBER(G$6)),IF($C19>0,IF(INT((G$6+6-'Plan'!$J18)/$C19)>=MAX(1,-INT(-(G$6-'Plan'!$J18)/$C19)),"●",""),""),"") | H19: =IF(AND(ISNUMBER($C19),ISNUMBER('Plan'!$J18),ISNUMBER(H$6)),IF($C19>0,IF(INT((H$6+6-'Plan'!$J18)/$C19)>=MAX(1,-INT(-(H$6-'Plan'!$J18)/$C19)),"●",""),""),"") | I19: =IF(AND(ISNUMBER($C19),ISNUMBER('Plan'!$J18),ISNUMBER(I$6)),IF($C19>0,IF(INT((I$6+6-'Plan'!$J18)/$C19)>=MAX(1,-INT(-(I$6-'Plan'!$J18)/$C19)),"●",""),""),"") | J19: =IF(AND(ISNUMBER($C19),ISNUMBER('Plan'!$J18),ISNUMBER(J$6)),IF($C19>0,IF(INT((J$6+6-'Plan'!$J18)/$C19)>=MAX(1,-INT(-(J$6-'Plan'!$J18)/$C19)),"●",""),""),"") | K19: =IF(AND(ISNUMBER($C19),ISNUMBER('Plan'!$J18),ISNUMBER(K$6)),IF($C19>0,IF(INT((K$6+6-'Plan'!$J18)/$C19)>=MAX(1,-INT(-(K$6-'Plan'!$J18)/$C19)),"●",""),""),"") | L19: =IF(AND(ISNUMBER($C19),ISNUMBER('Plan'!$J18),ISNUMBER(L$6)),IF($C19>0,IF(INT((L$6+6-'Plan'!$J18)/$C19)>=MAX(1,-INT(-(L$6-'Plan'!$J18)/$C19)),"●",""),""),"") | ... BD19: =IF(AND(ISNUMBER($C19),ISNUMBER('Plan'!$J18),ISNUMBER(BD$6)),IF($C19>0,IF(INT((BD$6+6-'Plan'!$J18)/$C19)>=MAX(1,-INT(-(BD$6-'Plan'!$J18)/$C19)),"●",""),""),"")
... A107: =IF('Plan'!B106="",IF('Plan'!A106="","",'Plan'!A106),'Plan'!B106) | B107: =IF('Plan'!D106="","",'Plan'!D106) | C107: =IF(ISNUMBER('Plan'!F106),IF('Plan'!G106="meses",'Plan'!F106*365.25/12,IF('Plan'!G106="semanas",'Plan'!F106*7,IF('Plan'!G106="días",'Plan'!F106,""))),"") | D107: =IF(ISNUMBER('Plan'!H106),'Plan'!H106,"") | E107: =IF(AND(ISNUMBER($C107),ISNUMBER('Plan'!$J106),ISNUMBER(E$6)),IF($C107>0,IF(INT((E$6+6-'Plan'!$J106)/$C107)>=MAX(1,-INT(-(E$6-'Plan'!$J106)/$C107)),"●",""),""),"") | F107: =IF(AND(ISNUMBER($C107),ISNUMBER('Plan'!$J106),ISNUMBER(F$6)),IF($C107>0,IF(INT((F$6+6-'Plan'!$J106)/$C107)>=MAX(1,-INT(-(F$6-'Plan'!$J106)/$C107)),"●",""),""),"") | G107: =IF(AND(ISNUMBER($C107),ISNUMBER('Plan'!$J106),ISNUMBER(G$6)),IF($C107>0,IF(INT((G$6+6-'Plan'!$J106)/$C107)>=MAX(1,-INT(-(G$6-'Plan'!$J106)/$C107)),"●",""),""),"") | H107: =IF(AND(ISNUMBER($C107),ISNUMBER('Plan'!$J106),ISNUMBER(H$6)),IF($C107>0,IF(INT((H$6+6-'Plan'!$J106)/$C107)>=MAX(1,-INT(-(H$6-'Plan'!$J106)/$C107)),"●",""),""),"") | I107: =IF(AND(ISNUMBER($C107),ISNUMBER('Plan'!$J106),ISNUMBER(I$6)),IF($C107>0,IF(INT((I$6+6-'Plan'!$J106)/$C107)>=MAX(1,-INT(-(I$6-'Plan'!$J106)/$C107)),"●",""),""),"") | J107: =IF(AND(ISNUMBER($C107),ISNUMBER('Plan'!$J106),ISNUMBER(J$6)),IF($C107>0,IF(INT((J$6+6-'Plan'!$J106)/$C107)>=MAX(1,-INT(-(J$6-'Plan'!$J106)/$C107)),"●",""),""),"") | K107: =IF(AND(ISNUMBER($C107),ISNUMBER('Plan'!$J106),ISNUMBER(K$6)),IF($C107>0,IF(INT((K$6+6-'Plan'!$J106)/$C107)>=MAX(1,-INT(-(K$6-'Plan'!$J106)/$C107)),"●",""),""),"") | L107: =IF(AND(ISNUMBER($C107),ISNUMBER('Plan'!$J106),ISNUMBER(L$6)),IF($C107>0,IF(INT((L$6+6-'Plan'!$J106)/$C107)>=MAX(1,-INT(-(L$6-'Plan'!$J106)/$C107)),"●",""),""),"") | ... BD107: =IF(AND(ISNUMBER($C107),ISNUMBER('Plan'!$J106),ISNUMBER(BD$6)),IF($C107>0,IF(INT((BD$6+6-'Plan'!$J106)/$C107)>=MAX(1,-INT(-(BD$6-'Plan'!$J106)/$C107)),"●",""),""),"")
A109: Tareas de la semana | E109: =COUNTIF(E$8:E$107,"●") | F109: =COUNTIF(F$8:F$107,"●") | G109: =COUNTIF(G$8:G$107,"●") | H109: =COUNTIF(H$8:H$107,"●") | I109: =COUNTIF(I$8:I$107,"●") | J109: =COUNTIF(J$8:J$107,"●") | K109: =COUNTIF(K$8:K$107,"●") | L109: =COUNTIF(L$8:L$107,"●") | ... BD109: =COUNTIF(BD$8:BD$107,"●")
A110: Carga de trabajo (h) | E110: =SUMIF(E$8:E$107,"●",$D$8:$D$107) | F110: =SUMIF(F$8:F$107,"●",$D$8:$D$107) | G110: =SUMIF(G$8:G$107,"●",$D$8:$D$107) | H110: =SUMIF(H$8:H$107,"●",$D$8:$D$107) | I110: =SUMIF(I$8:I$107,"●",$D$8:$D$107) | J110: =SUMIF(J$8:J$107,"●",$D$8:$D$107) | K110: =SUMIF(K$8:K$107,"●",$D$8:$D$107) | L110: =SUMIF(L$8:L$107,"●",$D$8:$D$107) | ... BD110: =SUMIF(BD$8:BD$107,"●",$D$8:$D$107)
A112: Plantilla en blanco. Las frecuencias vienen del fabricante, de su propio historial y de la normativa que aplica a su planta.
