Workbook

Sheet 部品
A1: 部品在庫管理表
A2: 入出庫から部品ごとの在庫を計算し、発注点、発注数量、在庫金額を表示します。
A3: このシートに部品を1回だけ登録し、入庫と出庫はすべて同じ部品番号で入出庫シートに記録してください。グレーの列が在庫、発注点、発注数量を計算します。
A5: 集計
A6: 登録部品数 | C6: =COUNTA(A13:A312)
A7: 発注が必要な部品 | C7: =COUNTIF(T13:T312,"要発注")
A8: 欠品中の部品 | C8: =COUNTIF(T13:T312,"欠品")
A9: 在庫金額合計 | C9: =SUM(S13:S312)
A11: 部品
A12: 部品番号 | B12: 品名 | C12: メーカー／型式 | D12: 使用設備 | E12: 保管場所 | F12: 重要部品 | G12: 単位 | H12: 期首在庫 | I12: 入庫 | J12: 出庫 | K12: 現在庫 | L12: 最低在庫 | M12: 1日あたり平均使用量 | N12: リードタイム（日） | O12: 推奨発注点 | P12: 最大在庫 | Q12: 発注数量 | R12: 単価 | S12: 在庫金額 | T12: 状態 | U12: 仕入先
I13: =IF(A13="","",SUMIFS('入出庫'!$E$5:$E$1004,'入出庫'!$B$5:$B$1004,A13,'入出庫'!$D$5:$D$1004,"入庫")) | J13: =IF(A13="","",SUMIFS('入出庫'!$E$5:$E$1004,'入出庫'!$B$5:$B$1004,A13,'入出庫'!$D$5:$D$1004,"出庫")) | K13: =IF(A13="","",N(H13)+I13-J13) | O13: =IF(A13="","",IF(AND(ISNUMBER(M13),ISNUMBER(N13)),ROUNDUP(M13*N13,0)+N(L13),IF(ISNUMBER(L13),L13,""))) | Q13: =IF(AND(ISNUMBER(K13),ISNUMBER(O13),ISNUMBER(P13)),IF(K13<=O13,MAX(P13-K13,0),""),"") | S13: =IF(AND(ISNUMBER(K13),ISNUMBER(R13)),K13*R13,"") | T13: =IF(ISNUMBER(K13),IF(K13<=0,"欠品",IF(ISNUMBER(O13),IF(K13<=O13,"要発注","OK"),"OK")),"")
I14: =IF(A14="","",SUMIFS('入出庫'!$E$5:$E$1004,'入出庫'!$B$5:$B$1004,A14,'入出庫'!$D$5:$D$1004,"入庫")) | J14: =IF(A14="","",SUMIFS('入出庫'!$E$5:$E$1004,'入出庫'!$B$5:$B$1004,A14,'入出庫'!$D$5:$D$1004,"出庫")) | K14: =IF(A14="","",N(H14)+I14-J14) | O14: =IF(A14="","",IF(AND(ISNUMBER(M14),ISNUMBER(N14)),ROUNDUP(M14*N14,0)+N(L14),IF(ISNUMBER(L14),L14,""))) | Q14: =IF(AND(ISNUMBER(K14),ISNUMBER(O14),ISNUMBER(P14)),IF(K14<=O14,MAX(P14-K14,0),""),"") | S14: =IF(AND(ISNUMBER(K14),ISNUMBER(R14)),K14*R14,"") | T14: =IF(ISNUMBER(K14),IF(K14<=0,"欠品",IF(ISNUMBER(O14),IF(K14<=O14,"要発注","OK"),"OK")),"")
I15: =IF(A15="","",SUMIFS('入出庫'!$E$5:$E$1004,'入出庫'!$B$5:$B$1004,A15,'入出庫'!$D$5:$D$1004,"入庫")) | J15: =IF(A15="","",SUMIFS('入出庫'!$E$5:$E$1004,'入出庫'!$B$5:$B$1004,A15,'入出庫'!$D$5:$D$1004,"出庫")) | K15: =IF(A15="","",N(H15)+I15-J15) | O15: =IF(A15="","",IF(AND(ISNUMBER(M15),ISNUMBER(N15)),ROUNDUP(M15*N15,0)+N(L15),IF(ISNUMBER(L15),L15,""))) | Q15: =IF(AND(ISNUMBER(K15),ISNUMBER(O15),ISNUMBER(P15)),IF(K15<=O15,MAX(P15-K15,0),""),"") | S15: =IF(AND(ISNUMBER(K15),ISNUMBER(R15)),K15*R15,"") | T15: =IF(ISNUMBER(K15),IF(K15<=0,"欠品",IF(ISNUMBER(O15),IF(K15<=O15,"要発注","OK"),"OK")),"")
I16: =IF(A16="","",SUMIFS('入出庫'!$E$5:$E$1004,'入出庫'!$B$5:$B$1004,A16,'入出庫'!$D$5:$D$1004,"入庫")) | J16: =IF(A16="","",SUMIFS('入出庫'!$E$5:$E$1004,'入出庫'!$B$5:$B$1004,A16,'入出庫'!$D$5:$D$1004,"出庫")) | K16: =IF(A16="","",N(H16)+I16-J16) | O16: =IF(A16="","",IF(AND(ISNUMBER(M16),ISNUMBER(N16)),ROUNDUP(M16*N16,0)+N(L16),IF(ISNUMBER(L16),L16,""))) | Q16: =IF(AND(ISNUMBER(K16),ISNUMBER(O16),ISNUMBER(P16)),IF(K16<=O16,MAX(P16-K16,0),""),"") | S16: =IF(AND(ISNUMBER(K16),ISNUMBER(R16)),K16*R16,"") | T16: =IF(ISNUMBER(K16),IF(K16<=0,"欠品",IF(ISNUMBER(O16),IF(K16<=O16,"要発注","OK"),"OK")),"")
I17: =IF(A17="","",SUMIFS('入出庫'!$E$5:$E$1004,'入出庫'!$B$5:$B$1004,A17,'入出庫'!$D$5:$D$1004,"入庫")) | J17: =IF(A17="","",SUMIFS('入出庫'!$E$5:$E$1004,'入出庫'!$B$5:$B$1004,A17,'入出庫'!$D$5:$D$1004,"出庫")) | K17: =IF(A17="","",N(H17)+I17-J17) | O17: =IF(A17="","",IF(AND(ISNUMBER(M17),ISNUMBER(N17)),ROUNDUP(M17*N17,0)+N(L17),IF(ISNUMBER(L17),L17,""))) | Q17: =IF(AND(ISNUMBER(K17),ISNUMBER(O17),ISNUMBER(P17)),IF(K17<=O17,MAX(P17-K17,0),""),"") | S17: =IF(AND(ISNUMBER(K17),ISNUMBER(R17)),K17*R17,"") | T17: =IF(ISNUMBER(K17),IF(K17<=0,"欠品",IF(ISNUMBER(O17),IF(K17<=O17,"要発注","OK"),"OK")),"")
I18: =IF(A18="","",SUMIFS('入出庫'!$E$5:$E$1004,'入出庫'!$B$5:$B$1004,A18,'入出庫'!$D$5:$D$1004,"入庫")) | J18: =IF(A18="","",SUMIFS('入出庫'!$E$5:$E$1004,'入出庫'!$B$5:$B$1004,A18,'入出庫'!$D$5:$D$1004,"出庫")) | K18: =IF(A18="","",N(H18)+I18-J18) | O18: =IF(A18="","",IF(AND(ISNUMBER(M18),ISNUMBER(N18)),ROUNDUP(M18*N18,0)+N(L18),IF(ISNUMBER(L18),L18,""))) | Q18: =IF(AND(ISNUMBER(K18),ISNUMBER(O18),ISNUMBER(P18)),IF(K18<=O18,MAX(P18-K18,0),""),"") | S18: =IF(AND(ISNUMBER(K18),ISNUMBER(R18)),K18*R18,"") | T18: =IF(ISNUMBER(K18),IF(K18<=0,"欠品",IF(ISNUMBER(O18),IF(K18<=O18,"要発注","OK"),"OK")),"")
I19: =IF(A19="","",SUMIFS('入出庫'!$E$5:$E$1004,'入出庫'!$B$5:$B$1004,A19,'入出庫'!$D$5:$D$1004,"入庫")) | J19: =IF(A19="","",SUMIFS('入出庫'!$E$5:$E$1004,'入出庫'!$B$5:$B$1004,A19,'入出庫'!$D$5:$D$1004,"出庫")) | K19: =IF(A19="","",N(H19)+I19-J19) | O19: =IF(A19="","",IF(AND(ISNUMBER(M19),ISNUMBER(N19)),ROUNDUP(M19*N19,0)+N(L19),IF(ISNUMBER(L19),L19,""))) | Q19: =IF(AND(ISNUMBER(K19),ISNUMBER(O19),ISNUMBER(P19)),IF(K19<=O19,MAX(P19-K19,0),""),"") | S19: =IF(AND(ISNUMBER(K19),ISNUMBER(R19)),K19*R19,"") | T19: =IF(ISNUMBER(K19),IF(K19<=0,"欠品",IF(ISNUMBER(O19),IF(K19<=O19,"要発注","OK"),"OK")),"")
I20: =IF(A20="","",SUMIFS('入出庫'!$E$5:$E$1004,'入出庫'!$B$5:$B$1004,A20,'入出庫'!$D$5:$D$1004,"入庫")) | J20: =IF(A20="","",SUMIFS('入出庫'!$E$5:$E$1004,'入出庫'!$B$5:$B$1004,A20,'入出庫'!$D$5:$D$1004,"出庫")) | K20: =IF(A20="","",N(H20)+I20-J20) | O20: =IF(A20="","",IF(AND(ISNUMBER(M20),ISNUMBER(N20)),ROUNDUP(M20*N20,0)+N(L20),IF(ISNUMBER(L20),L20,""))) | Q20: =IF(AND(ISNUMBER(K20),ISNUMBER(O20),ISNUMBER(P20)),IF(K20<=O20,MAX(P20-K20,0),""),"") | S20: =IF(AND(ISNUMBER(K20),ISNUMBER(R20)),K20*R20,"") | T20: =IF(ISNUMBER(K20),IF(K20<=0,"欠品",IF(ISNUMBER(O20),IF(K20<=O20,"要発注","OK"),"OK")),"")
I21: =IF(A21="","",SUMIFS('入出庫'!$E$5:$E$1004,'入出庫'!$B$5:$B$1004,A21,'入出庫'!$D$5:$D$1004,"入庫")) | J21: =IF(A21="","",SUMIFS('入出庫'!$E$5:$E$1004,'入出庫'!$B$5:$B$1004,A21,'入出庫'!$D$5:$D$1004,"出庫")) | K21: =IF(A21="","",N(H21)+I21-J21) | O21: =IF(A21="","",IF(AND(ISNUMBER(M21),ISNUMBER(N21)),ROUNDUP(M21*N21,0)+N(L21),IF(ISNUMBER(L21),L21,""))) | Q21: =IF(AND(ISNUMBER(K21),ISNUMBER(O21),ISNUMBER(P21)),IF(K21<=O21,MAX(P21-K21,0),""),"") | S21: =IF(AND(ISNUMBER(K21),ISNUMBER(R21)),K21*R21,"") | T21: =IF(ISNUMBER(K21),IF(K21<=0,"欠品",IF(ISNUMBER(O21),IF(K21<=O21,"要発注","OK"),"OK")),"")
I22: =IF(A22="","",SUMIFS('入出庫'!$E$5:$E$1004,'入出庫'!$B$5:$B$1004,A22,'入出庫'!$D$5:$D$1004,"入庫")) | J22: =IF(A22="","",SUMIFS('入出庫'!$E$5:$E$1004,'入出庫'!$B$5:$B$1004,A22,'入出庫'!$D$5:$D$1004,"出庫")) | K22: =IF(A22="","",N(H22)+I22-J22) | O22: =IF(A22="","",IF(AND(ISNUMBER(M22),ISNUMBER(N22)),ROUNDUP(M22*N22,0)+N(L22),IF(ISNUMBER(L22),L22,""))) | Q22: =IF(AND(ISNUMBER(K22),ISNUMBER(O22),ISNUMBER(P22)),IF(K22<=O22,MAX(P22-K22,0),""),"") | S22: =IF(AND(ISNUMBER(K22),ISNUMBER(R22)),K22*R22,"") | T22: =IF(ISNUMBER(K22),IF(K22<=0,"欠品",IF(ISNUMBER(O22),IF(K22<=O22,"要発注","OK"),"OK")),"")
I23: =IF(A23="","",SUMIFS('入出庫'!$E$5:$E$1004,'入出庫'!$B$5:$B$1004,A23,'入出庫'!$D$5:$D$1004,"入庫")) | J23: =IF(A23="","",SUMIFS('入出庫'!$E$5:$E$1004,'入出庫'!$B$5:$B$1004,A23,'入出庫'!$D$5:$D$1004,"出庫")) | K23: =IF(A23="","",N(H23)+I23-J23) | O23: =IF(A23="","",IF(AND(ISNUMBER(M23),ISNUMBER(N23)),ROUNDUP(M23*N23,0)+N(L23),IF(ISNUMBER(L23),L23,""))) | Q23: =IF(AND(ISNUMBER(K23),ISNUMBER(O23),ISNUMBER(P23)),IF(K23<=O23,MAX(P23-K23,0),""),"") | S23: =IF(AND(ISNUMBER(K23),ISNUMBER(R23)),K23*R23,"") | T23: =IF(ISNUMBER(K23),IF(K23<=0,"欠品",IF(ISNUMBER(O23),IF(K23<=O23,"要発注","OK"),"OK")),"")
I24: =IF(A24="","",SUMIFS('入出庫'!$E$5:$E$1004,'入出庫'!$B$5:$B$1004,A24,'入出庫'!$D$5:$D$1004,"入庫")) | J24: =IF(A24="","",SUMIFS('入出庫'!$E$5:$E$1004,'入出庫'!$B$5:$B$1004,A24,'入出庫'!$D$5:$D$1004,"出庫")) | K24: =IF(A24="","",N(H24)+I24-J24) | O24: =IF(A24="","",IF(AND(ISNUMBER(M24),ISNUMBER(N24)),ROUNDUP(M24*N24,0)+N(L24),IF(ISNUMBER(L24),L24,""))) | Q24: =IF(AND(ISNUMBER(K24),ISNUMBER(O24),ISNUMBER(P24)),IF(K24<=O24,MAX(P24-K24,0),""),"") | S24: =IF(AND(ISNUMBER(K24),ISNUMBER(R24)),K24*R24,"") | T24: =IF(ISNUMBER(K24),IF(K24<=0,"欠品",IF(ISNUMBER(O24),IF(K24<=O24,"要発注","OK"),"OK")),"")
... I312: =IF(A312="","",SUMIFS('入出庫'!$E$5:$E$1004,'入出庫'!$B$5:$B$1004,A312,'入出庫'!$D$5:$D$1004,"入庫")) | J312: =IF(A312="","",SUMIFS('入出庫'!$E$5:$E$1004,'入出庫'!$B$5:$B$1004,A312,'入出庫'!$D$5:$D$1004,"出庫")) | K312: =IF(A312="","",N(H312)+I312-J312) | O312: =IF(A312="","",IF(AND(ISNUMBER(M312),ISNUMBER(N312)),ROUNDUP(M312*N312,0)+N(L312),IF(ISNUMBER(L312),L312,""))) | Q312: =IF(AND(ISNUMBER(K312),ISNUMBER(O312),ISNUMBER(P312)),IF(K312<=O312,MAX(P312-K312,0),""),"") | S312: =IF(AND(ISNUMBER(K312),ISNUMBER(R312)),K312*R312,"") | T312: =IF(ISNUMBER(K312),IF(K312<=0,"欠品",IF(ISNUMBER(O312),IF(K312<=O312,"要発注","OK"),"OK")),"")
A314: 空のテンプレートです。金額はお使いの通貨で入力してください。実地棚卸の後は、期首在庫を修正するか、調整の入出庫を記録してください。

Sheet 入出庫
A1: 入出庫記録
A2: このシートに部品を1回だけ登録し、入庫と出庫はすべて同じ部品番号で入出庫シートに記録してください。グレーの列が在庫、発注点、発注数量を計算します。
A4: 日付 | B4: 部品番号 | C4: 品名（自動入力） | D4: 区分 | E4: 数量 | F4: 参照（作業指示、納品書） | G4: 担当者 | H4: コメント
C5: =IF(B5="","",IFERROR(INDEX('部品'!$B$13:$B$312,MATCH(B5,'部品'!$A$13:$A$312,0)),"未登録の部品番号"))
C6: =IF(B6="","",IFERROR(INDEX('部品'!$B$13:$B$312,MATCH(B6,'部品'!$A$13:$A$312,0)),"未登録の部品番号"))
C7: =IF(B7="","",IFERROR(INDEX('部品'!$B$13:$B$312,MATCH(B7,'部品'!$A$13:$A$312,0)),"未登録の部品番号"))
C8: =IF(B8="","",IFERROR(INDEX('部品'!$B$13:$B$312,MATCH(B8,'部品'!$A$13:$A$312,0)),"未登録の部品番号"))
C9: =IF(B9="","",IFERROR(INDEX('部品'!$B$13:$B$312,MATCH(B9,'部品'!$A$13:$A$312,0)),"未登録の部品番号"))
C10: =IF(B10="","",IFERROR(INDEX('部品'!$B$13:$B$312,MATCH(B10,'部品'!$A$13:$A$312,0)),"未登録の部品番号"))
C11: =IF(B11="","",IFERROR(INDEX('部品'!$B$13:$B$312,MATCH(B11,'部品'!$A$13:$A$312,0)),"未登録の部品番号"))
C12: =IF(B12="","",IFERROR(INDEX('部品'!$B$13:$B$312,MATCH(B12,'部品'!$A$13:$A$312,0)),"未登録の部品番号"))
C13: =IF(B13="","",IFERROR(INDEX('部品'!$B$13:$B$312,MATCH(B13,'部品'!$A$13:$A$312,0)),"未登録の部品番号"))
C14: =IF(B14="","",IFERROR(INDEX('部品'!$B$13:$B$312,MATCH(B14,'部品'!$A$13:$A$312,0)),"未登録の部品番号"))
C15: =IF(B15="","",IFERROR(INDEX('部品'!$B$13:$B$312,MATCH(B15,'部品'!$A$13:$A$312,0)),"未登録の部品番号"))
C16: =IF(B16="","",IFERROR(INDEX('部品'!$B$13:$B$312,MATCH(B16,'部品'!$A$13:$A$312,0)),"未登録の部品番号"))
... C1004: =IF(B1004="","",IFERROR(INDEX('部品'!$B$13:$B$312,MATCH(B1004,'部品'!$A$13:$A$312,0)),"未登録の部品番号"))
